Workbook
Name metai: '[1]Bendra lentele'!$L$1:$L$9

Sheet Prašymo forma
M3: Patvirtinta Lietuvos Respublikos aplinkos ministerijos Aplinkos projektų valdymo agentūros direktoriaus 2021 m. lapkričio 19 d. įsakymu Nr. T1-272
B5: Prašymo teikėjo duomenys (juridinio asmens pavadinimas/fizinio asmens vardas, pavardė, kodas, adresas
B7: Lietuvos Respublikos aplinkos ministerijos Aplinkos projektų valdymo agentūrai
B9: PRAŠYMAS KOMPENSUOTI PROJEKTO (JO DALIES) PARENGIMO IŠLAIDAS
I12: Nr.
H13: (data)
H15: (vieta)
B18: 1. | C18: Informacija apie atnaujinamą (modernizuojamą) daugiabutį namą (nurodyti informaciją):
B19: 1.1 | C19: Adresas:
B20: 1.2 | C20: Statybos metai:
B21: 1.3 | C21: Projekto numeris nurodytas suderintame investicijų plane:
B22: 1.4 | C22: Valstybės paramos sutarties numeris ir data:
B23: 1.5 | C23: Projekto ar jo dalies parengimo, pastato energinio naudingumo sertifikato parengimo, projekto vykdymo priežiūros ir projekto ekspertizės vykdymo sutarties numeris ir data:
B24: 1.6 | C24: Butų ir kitų patalpų skaičius (vnt.):
B25: 1.7 | C25: Statybos užbaigimo akto surašymo data (jeigu projekto įgyvendinimo metu toks aktas buvo surašytas)
B26: 1.8 | C26: Namo butų naudingojo ir (ar) kitų patalpų bendrojo ploto suma (m2):
B27: 1.9 | C27: Atlikti statybos rangos darbai (procentais):
B28: 1.10 | C28: Investicijų plano rengimo organizatorius
B30: 2. | C30: Projekto dalis: | I30: Projekto ar jo dalies parengimo kaina numatyti sutartyje Eur su PVM | L30: Projekto ar jo dalies parengimo kaina numatyti VP sutartyje Eur su PVM | M30: Projekto ar jo dalies parengimo suma, kuri jau buvo suteikta butų ir kitų patalpų savininkams Eur su PVM | P30: Projekto (jo dalies) parengimo priėmimo - perdavimo akte nurodyta projekto dalies kaina Eur su PVM
B31: 2.1 | C31: Pastato energinio naudingumo sertifikatas, parengtas ir išduotas prieš atnaujinimo (modernizavimo) priemonių įgyvendinimą:
B32: 2.2 | C32: Pastato energinio naudingumo sertifikatas, parengtas ir išduotas įgyvendinus pirmojo etapo priemones, jeigu projektas įgyvendinamas etapais:
B33: 2.3 | C33: Investicijų planas (įskaitant jo tikslinimą):
B34: 2.4 | C34: Statinio projekto (projektų) parengimas (įskaitant jo (jų) tikslinimą):
B35: 2.5 | C35: Statinio projekto (-ų) ekspertizė:
B36: 2.6 | C36: Projekto vykdymo priežiūros išlaidos:
B37: 2.7 | C37: Pastato energinio naudingumo sertifikatas, parengtas ir išduotas po atnaujinimo (modernizavimo) priemonių įgyvendinimo:
B38: 2.8 | C38: Pastato sandarumo bandymas, atliktas užbaigus statybos rangos darbus:
B39: Bendra suma: | P39: =+SUM(P31:Q37) -> 0
B41: 3. | C41: Informacija apie butų ir kitų patalpų savininkams, turintiems teisę į šildymo išlaidų kompensaciją, tenkantį aktuojamos sumos dydį (pildoma tuo atveju jeigu daugiabučiame name yra butų ir kitų patalpų savininkų turinčių teisę į šildymo išlaidų kompensaciją. Informacija gali būti nenurodoma, jeigu name nėra asmenų turinčių teisę į šildymo išlaidų kompesaciją ir prašoma valstybės parama yra ne 100 proc.):
B42: 3.1 | C42: Buto/ patalpos Nr.: | D42: Savininko vardas, pavardė: | F42: Asmens valdomų patalpų plotas m2 (nurodyti plotą): | H42: Asmeniui tenkantis valstybės paramos dydis (apskaičiuojama automatiškai), eurais:
B43: 3.1.1 | H43: =IF(F43=0,0,$P$39*F43/$I$26) -> 0
B44: 3.1.2 | H44: =IF(F44=0,0,$P$39*F44/$I$26) -> 0
B45: 3.1.3 | H45: =IF(F45=0,0,$P$39*F45/$I$26) -> 0
B46: 3.1.4 | H46: =IF(F46=0,0,$P$39*F46/$I$26) -> 0
B47: 3.1.5 | H47: =IF(F47=0,0,$P$39*F47/$I$26) -> 0
B48: ... | H48: =IF(F48=0,0,$P$39*F48/$I$26) -> 0
D49: Bendra suma: | F49: =+SUM(F43:G48) -> 0 | H49: =ROUND(+SUM(H43:J48),2) -> 0
B51: 3. | C51: Informacija apie savivaldybės nuosavybės teise valdomas gyvenamosioms patalpoms patirtas išlaidas pagal aktuojamos sumos dydį (pildoma, jeigu name yra savivaldybės valdomų gyvenamųjų patalpų):
B52: 3.1 | C52: Buto/ patalpos Nr.: | D52: Savivaldybės nuosavybės teise valdomų gyvenamosios paskirties patalpų plotas (nurodyti plotą), m2: | F52: Valstybės paramos dydis procentais (pasirinkti): | H52: Savivaldybei tenkantis valstybės paramos dydis (apskaičiuojama automatiškai), eurais:*
B53: 3.1.1 | H53: =IF(F53=0,0,IF(F53=Sąrašai!$A$1,D53*$P$39/$I$26,IF(F53=Sąrašai!$A$2,D53*$P$39/$I$26/2))) -> 0
B54: 3.1.2 | H54: =IF(F54=0,0,IF(F54=Sąrašai!$A$1,D54*$P$39/$I$26,IF(F54=Sąrašai!$A$2,D54*$P$39/$I$26/2))) -> 0
B55: 3.1.3 | H55: =IF(F55=0,0,IF(F55=Sąrašai!$A$1,D55*$P$39/$I$26,IF(F55=Sąrašai!$A$2,D55*$P$39/$I$26/2))) -> 0
B56: 3.1.4 | H56: =IF(F56=0,0,IF(F56=Sąrašai!$A$1,D56*$P$39/$I$26,IF(F56=Sąrašai!$A$2,D56*$P$39/$I$26/2))) -> 0
B57: 3.1.5 | H57: =IF(F57=0,0,IF(F57=Sąrašai!$A$1,D57*$P$39/$I$26,IF(F57=Sąrašai!$A$2,D57*$P$39/$I$26/2))) -> 0
B58: ... | H58: =IF(F58=0,0,IF(F58=Sąrašai!$A$1,D58*$P$39/$I$26,IF(F58=Sąrašai!$A$2,D58*$P$39/$I$26/2))) -> 0
B59: Bendra suma: | D59: =+SUM(D53:G58) -> 0 | F59: - | H59: =ROUND(+SUM(H53:J58),2) -> 0
B60: * Pastaba: Savivaldybei, kuriai skaičiuojamas atvirkštinis PVM, suma įrašoma be atvirkštinio PVM.
B61: 4. | C61: Informacija apie daugiabučiame name ūkinę veiklą vykdantiems asmenims tenkantį valstybės paramos dydį, pagal faktiškai aktuojamą patirtų išlaidų sumą:
B62: 4.1 | C62: Buto/ patalpos Nr.: | D62: Ūkinę veiklą vykdančio asmens vardas/pavardė arba juridinio asmens pavadinimas: | F62: Ūkinę veiklą vykdančio asmens valdomų patalpų plotas (nurodyti plotą), m2: | H62: Valstybės paramos dydis procentais (pasirinkti): | I62: Asmeniui tenkantis valstybės paramos dydis (apskaičiuojama automatiškai), eurais: **
B63: 4.1.1 | I63: =IF(F63=0,0,(IF(H63=Sąrašai!$A$1,F63*$P$39/$I$26,(F63*$P$39/$I$26)*1/2))) -> 0
B64: 4.1.2 | I64: =IF(F64=0,0,(IF(H64=Sąrašai!$A$1,F64*$P$39/$I$26,(F64*$P$39/$I$26)*1/2))) -> 0
B65: 4.1.3 | I65: =IF(F65=0,0,(IF(H65=Sąrašai!$A$1,F65*$P$39/$I$26,(F65*$P$39/$I$26)*1/2))) -> 0
B66: 4.1.4 | I66: =IF(F66=0,0,(IF(H66=Sąrašai!$A$1,F66*$P$39/$I$26,(F66*$P$39/$I$26)*1/2))) -> 0
B67: 4.1.5 | I67: =IF(F67=0,0,(IF(H67=Sąrašai!$A$1,F67*$P$39/$I$26,(F67*$P$39/$I$26)*1/2))) -> 0
B68: ... | I68: =IF(F68=0,0,(IF(H68=Sąrašai!$A$1,F68*$P$39/$I$26,(F68*$P$39/$I$26)*1/2))) -> 0
C69: Bendra suma: | F69: =+SUM(F63:G68) -> 0 | H69: - | I69: =ROUND(+SUM(I63:J68),2) -> 0
B70: ** Pastaba: Asmeniui, kuriam skaičiuojamas atvirkštinis PVM, suma įrašoma be atvirkštinio PVM.
B72: 5. | C72: Informacija apie kitų butų ir patalpų savininkams tenkantį valstybės paramos dydį, pagal faktiškai aktuojamą patirtų išlaidų sumą (nurodoma informacija apie visus butų savininkus, kurie nėra nurodyti šio prašymo 2, 3, 4 lentelėse):
B73: 5.1 | C73: Butų skaičius: | D73: Asmenų valdomų patalpų plotas | H73: Valstybės paramos dydis procentais (pasirinkti): | I73: Asmenims tenkantis valstybės paramos dydis (apskaičiuojama automatiškai), eurais:
B74: 5.1.1 | H74: 100 proc. | I74: =IF(D74=0,0,IF(H74=Sąrašai!$A$1,D74*$P$39/$I$26,(D74*$P$39/$I$26)*1/2)) -> 0
B75: Bendra suma: | D75: =+SUM(D74:G74) -> 0 | H75: - | I75: =ROUND(I74,2) -> 0
B77: 6. | C77: Prašoma suteikti valstybės parama (apskaičiuojama automatiškai), eurais: | I77: =I75+I69+H59+H49 -> 0
B80: 7. | C80: Butų ir kitų patalpų savininkų arba projekto administratoriaus, kuriam (iems) turėtų būti pervestos kompensuojamos lėšos, suma
B81: 7.1 | C81: Lėšų gavėjo pavadinimas, įmonės kodas:
B82: 7.2 | C82: Butų ir kitų patalpų savininkų kaupiamųjų lėšų sąskaitos numeris (jeigu išlaidas butų savininkai apmokėjo savo lėšomis):
B83: 7.3 | C83: Savivaldybės atsiskaitomosios sąskaitos numeris (jeigu šias išlaidas savo lėšomis apmokėjo savivaldybė):
B84: 7.4 | C84: Projekto administratoriaus atsiskaitomosios sąskaitos numeris (jeigu šias išlaidas savo lėšomis apmokėjo Projekto administratorius):
B85: 7.5 | C85: Sąskaitos faktūros už paslaugas arba darbų priėmimo - perdavimo akto serija/numeris:
B87: Prašymo teikėjas atsako už pateikiamų duomenų teisingumą
B89: Pridedama:
B90: 1. | C90: Projekto parengimo atlikimą patvirtinantys dokumentai (paslaugos pirkimo ataskaitos, sutarties, sąskaitų faktūrų (jeigu jos yra) ir apmokėjimą patvirtinančių dokumentų kopijos);
B91: 2. | C91: Sąskaita faktūros kopija; pavedimo nurodymas;
B92: 4. | C92: Butų savininkų, turinčių teisę į būsto šildymo išlaidų kompensaciją, sąrašas ir jame nurodytiems butų savininkams savivaldybės išduotos pažymos (ar jų kopijos), patvirtinančios, kad daugiabučio namo butų savininkai prašymo pateikimo Agentūrai dieną turi teisę į būsto šildymo išlaidų kompensaciją (šie dokumentai ar jų kopijos neteikiami, jeigu teikiama 100 procentų valstybės parama projekto įgyvendinimui administruoti ir statybos techninei priežiūrai vykdyti);
B93: 3. | C93: Savivaldybės nuosavybės teise valdomų butų sąrašas;
B94: 4. | C94: Statybos užbaigimo aktas, jeigu kreipiamasi dėl valstybės paramos suteikimo įgyvendinus projektą;
B95: 5. | C95: Informacija apie butų ir kitų patalpų savininkų, vykdančių ūkinę veiklą daugiabučiame name, susijusias įmones, jeigu tokia informacija iki šiol nebuvo pateikta arba yra pasikeitusi (Vadovaujantis 2013 m. gruodžio 18 d. Komisijos reglamento (ES) Nr. 1407/2013 2 straipsnio 2 dalies pakeitimu);
B96: 6. | C96: Statinio techninio darbo projekto paslaugų priėmimo – perdavimo aktas;
B97: 7. | C97: Dokumentai įrodantys, jog yra atlikta statinio projekto ekspertizė (pridedama tuo atveju, kai prašoma apmokėti statinio techninio darbo projekto parengimą);
B98: 8. | C98: Statybą leidžiančio dokumento kopija, jeigu kreipiamasi dėl projekto dalies (techninio darbo projekto) parengimo ir (ar) projekto ekspertizės atlikimo išlaidų apmokėjimo;
B99: 9. | C99: Statybos rangos darbų priėmimo - perdavimo aktai patvirtinantys projekto vykdymo priežiūros atlikimo apimtis ir kt. dokumentai;
B100: 10. | C100: Projekto (jo dalies) parengimo išlaidų apmokėjimą patvirtinantys dokumentai (sąskaitos faktūros, banko sąskaitų išrašai ir pam.).
B102: Patvirtiname, kad prašomos apmokėti ar kompensuoti patirtos išlaidos už suteiktas paslaugas nėra ankščiau finanasuotos (apmokėtos) iš Lietuvos Respublikos valstybės biudžeto ir (arba) savivaldybių biudžetų, kitų piniginių išteklių, kuriais disponuoja valstybė ir (ar) savivaldybė, ES struktūrinių fondų, kitų ES finansinės paramos priemonių ar kitos tarptautinės paramos lėšomis.
C106: (Projekto administratoriaus atstovo pareigos, vardas, pavardė) | I106: (Parašas)

Sheet Sąrašai
A1: 100 proc.
A2: 50 proc.
