Workbook
Name metai: '[1]Bendra lentele'!$L$1:$L$9

Sheet Prašymo forma
M3: Patvirtinta Lietuvos Respublikos aplinkos ministerijos Aplinkos projektų valdymo agentūros direktoriaus 2021 m. lapkričio 19 d. įsakymu Nr. T1-272
B5: Prašymo teikėjo duomenys (juridinio asmens pavadinimas/fizinio asmens vardas, pavardė, kodas, adresas
B7: Lietuvos Respublikos aplinkos ministerijos Aplinkos projektų valdymo agentūrai
B9: PRAŠYMAS KOMPENSUOTI PROJEKTO (JO DALIES) PARENGIMO IŠLAIDAS
I12: Nr.
H13: (data)
H15: (vieta)
B18: 1. | C18: Informacija apie atnaujinamą (modernizuojamą) daugiabutį namą (nurodyti informaciją):
B19: 1.1 | C19: Adresas:
B20: 1.2 | C20: Statybos metai:
B21: 1.3 | C21: Projekto numeris nurodytas suderintame investicijų plane:
B22: 1.4 | C22: Valstybės paramos sutarties numeris ir data:
B23: 1.5 | C23: Projekto ar jo dalies parengimo, pastato energinio naudingumo sertifikato parengimo, projekto vykdymo priežiūros ir projekto ekspertizės vykdymo sutarties numeris ir data:
B24: 1.6 | C24: Butų ir kitų patalpų skaičius (vnt.):
B25: 1.7 | C25: Statybos užbaigimo akto surašymo data (jeigu projekto įgyvendinimo metu toks aktas buvo surašytas)
B26: 1.8 | C26: Namo butų naudingojo ir (ar) kitų patalpų bendrojo ploto suma (m2):
B27: 1.9 | C27: Atlikti statybos rangos darbai (procentais):
B28: 1.10 | C28: Investicijų plano rengimo organizatorius
B30: 2. | C30: Projekto dalis: | I30: Projekto ar jo dalies parengimo kaina numatyti sutartyje Eur su PVM | L30: Projekto ar jo dalies parengimo kaina numatyti VP sutartyje Eur su PVM | M30: Projekto ar jo dalies parengimo suma, kuri jau buvo suteikta butų ir kitų patalpų savininkams Eur su PVM | P30: Projekto (jo dalies) parengimo priėmimo - perdavimo akte nurodyta projekto dalies kaina Eur su PVM
B31: 2.1 | C31: Pastato energinio naudingumo sertifikatas, parengtas ir išduotas prieš atnaujinimo (modernizavimo) priemonių įgyvendinimą:
B32: 2.2 | C32: Pastato energinio naudingumo sertifikatas, parengtas ir išduotas įgyvendinus pirmojo etapo priemones, jeigu projektas įgyvendinamas etapais:
B33: 2.3 | C33: Investicijų planas (įskaitant jo tikslinimą):
B34: 2.4 | C34: Statinio projekto (projektų) parengimas (įskaitant jo (jų) tikslinimą):
B35: 2.5 | C35: Statinio projekto (-ų) ekspertizė:
B36: 2.6 | C36: Projekto vykdymo priežiūros išlaidos:
B37: 2.7 | C37: Pastato energinio naudingumo sertifikatas, parengtas ir išduotas po atnaujinimo (modernizavimo) priemonių įgyvendinimo:
B38: 2.8 | C38: Pastato sandarumo bandymas, atliktas užbaigus statybos rangos darbus:
B39: Bendra suma: | P39: =+SUM(P31:Q37) -> 0
B41: 3. | C41: Informacija apie butų ir kitų patalpų savininkams, turintiems teisę į šildymo išlaidų kompensaciją, tenkantį aktuojamos sumos dydį (pildoma tuo atveju jeigu daugiabučiame name yra butų ir kitų patalpų savininkų turinčių teisę į šildymo išlaidų kompensaciją. Informacija gali būti nenurodoma, jeigu name nėra asmenų turinčių teisę į šildymo išlaidų kompesaciją ir prašoma valstybės parama yra ne 100 proc.):
B42: 3.1 | C42: Buto/ patalpos Nr.: | D42: Savininko vardas, pavardė: | F42: Asmens valdomų patalpų plotas m2 (nurodyti plotą): | H42: Asmeniui tenkantis valstybės paramos dydis (apskaičiuojama automatiškai), eurais:
B43: 3.1.1 | H43: =IF(F43=0,0,$P$39*F43/$I$26) -> 0
B44: 3.1.2 | H44: =IF(F44=0,0,$P$39*F44/$I$26) -> 0
B45: 3.1.3 | H45: =IF(F45=0,0,$P$39*F45/$I$26) -> 0
B46: 3.1.4 | H46: =IF(F46=0,0,$P$39*F46/$I$26) -> 0
B47: 3.1.5 | H47: =IF(F47=0,0,$P$39*F47/$I$26) -> 0
B48: ... | H48: =IF(F48=0,0,$P$39*F48/$I$26) -> 0
D49: Bendra suma: | F49: =+SUM(F43:G48) -> 0 | H49: =ROUND(+SUM(H43:J48),2) -> 0
B51: 3. | C51: Informacija apie savivaldybės nuosavybės teise valdomas gyvenamosioms patalpoms patirtas išlaidas pagal aktuojamos sumos dydį (pildoma, jeigu name yra savivaldybės valdomų gyvenamųjų patalpų):
B52: 3.1 | C52: Buto/ patalpos Nr.: | D52: Savivaldybės nuosavybės teise valdomų gyvenamosios paskirties patalpų plotas (nurodyti plotą), m2: | F52: Valstybės paramos dydis procentais (pasirinkti): | H52: Savivaldybei tenkantis valstybės paramos dydis (apskaičiuojama automatiškai), eurais:*
B53: 3.1.1 | H53: =IF(F53=0,0,IF(F53=Sąrašai!$A$1,D53*$P$39/$I$26,IF(F53=Sąrašai!$A$2,D53*$P$39/$I$26/2))) -> 0
...

Sheet Sąrašai
A1: 100 proc.
A2: 50 proc.
